BEGIN:VCALENDAR
VERSION:2.0
PRODID:-//NWJSA - North West Junior Soccer Association - ECPv4.6.14.1//NONSGML v1.0//EN
CALSCALE:GREGORIAN
METHOD:PUBLISH
X-WR-CALNAME:NWJSA - North West Junior Soccer Association
X-ORIGINAL-URL:http://nwjsa.org.au
X-WR-CALDESC:Events for NWJSA - North West Junior Soccer Association
BEGIN:VEVENT
DTSTART;TZID=UTC+9.5:20180910T190000
DTEND;TZID=UTC+9.5:20180910T200000
DTSTAMP:20200227T110303
CREATED:20150212T223402Z
LAST-MODIFIED:20180217T221654Z
UID:958-1536606000-1536609600@nwjsa.org.au
SUMMARY:NWJSA Annual General Meeting
DESCRIPTION:
URL:/event/nwjsa-annual-general-meeting/
LOCATION:222 Findon Road\, Findon\, SA\, 5023
END:VEVENT
END:VCALENDAR