BEGIN:VCALENDAR
VERSION:2.0
PRODID:-//NWJSA - North West Junior Soccer Association - ECPv4.6.14.1//NONSGML v1.0//EN
CALSCALE:GREGORIAN
METHOD:PUBLISH
X-WR-CALNAME:NWJSA - North West Junior Soccer Association
X-ORIGINAL-URL:http://nwjsa.org.au
X-WR-CALDESC:Events for NWJSA - North West Junior Soccer Association
BEGIN:VEVENT
DTSTART;TZID=UTC+9.5:20180730T190000
DTEND;TZID=UTC+9.5:20180730T200000
DTSTAMP:20200227T110415
CREATED:20150212T223303Z
LAST-MODIFIED:20180217T222232Z
UID:957-1532977200-1532980800@nwjsa.org.au
SUMMARY:Delegates Meeting 4
DESCRIPTION:
URL:/event/delegates-meeting-4-2/
LOCATION:222 Findon Road\, Findon\, SA\, 5023
END:VEVENT
END:VCALENDAR