BEGIN:VCALENDAR
VERSION:2.0
PRODID:-//NWJSA - North West Junior Soccer Association - ECPv4.6.14.1//NONSGML v1.0//EN
CALSCALE:GREGORIAN
METHOD:PUBLISH
X-WR-CALNAME:NWJSA - North West Junior Soccer Association
X-ORIGINAL-URL:http://nwjsa.org.au
X-WR-CALDESC:Events for NWJSA - North West Junior Soccer Association
BEGIN:VEVENT
DTSTART;TZID=UTC+9.5:20140901T190000
DTEND;TZID=UTC+9.5:20140901T200000
DTSTAMP:20200227T110027
CREATED:20140428T143038Z
LAST-MODIFIED:20140428T143038Z
UID:145-1409598000-1409601600@nwjsa.org.au
SUMMARY:Annual General Meeting (5)
DESCRIPTION:
URL:/event/annual-general-meeting-5/
LOCATION:Sansom Road\, West Lakes Shore\, SA\, 5020\, Australia
END:VEVENT
END:VCALENDAR